BEGIN:VCALENDAR
VERSION:2.0
PRODID:www.babraham.ac.uk
X-WR-TIMEZONE:UTC
BEGIN:VTIMEZONE
TZID:UTC
X-LIC-LOCATION:UTC
END:VTIMEZONE
BEGIN:VEVENT
UID:cc3cec43d1c19f3e519ff309886f7427
DTSTART;TZID=UTC:20260519T133000
SEQUENCE:0
TRANSP:OPAQUE
SUMMARY:Rational Design of T cell vaccines
CLASS:PUBLIC
DESCRIPTION:Dr Leo Swadling\; Division of Infection and Immunity\, UCL Alec
  Bangham\nRoom\, Riverside Building\, Babraham Research Campus
X-ALT-DESC;FMTTYPE=text/html:Dr Leo Swadling\; Division of Infection and Im
 munity\, UCL\nAlec Bangham Room\, Riverside Building\, Babraham Research C
 ampus
DTSTAMP:20260415T092436Z
END:VEVENT
END:VCALENDAR