BEGIN:VCALENDAR
VERSION:2.0
PRODID:www.babraham.ac.uk
X-WR-TIMEZONE:UTC
BEGIN:VTIMEZONE
TZID:UTC
X-LIC-LOCATION:UTC
END:VTIMEZONE
BEGIN:VEVENT
UID:d9297a7421f9e5e1d83a1c024dccce84
DTSTART;TZID=UTC:20260424T100000
SEQUENCE:0
TRANSP:OPAQUE
SUMMARY:Systems-level organization of extracellular Proteostasis
CLASS:PUBLIC
DESCRIPTION:Prof Cláudio M. Gomes\; University of Lisbon Alec Bangham Room
 \,\nRiverside Building\, Babraham Research Campus
X-ALT-DESC;FMTTYPE=text/html:Prof Cláudio M. Gomes\; University of Lisbon\
 nAlec Bangham Room\, Riverside Building\, Babraham Research Campus\n
DTSTAMP:20260415T085534Z
END:VEVENT
END:VCALENDAR