BEGIN:VCALENDAR
VERSION:2.0
PRODID:www.babraham.ac.uk
X-WR-TIMEZONE:UTC
BEGIN:VTIMEZONE
TZID:UTC
X-LIC-LOCATION:UTC
END:VTIMEZONE
BEGIN:VEVENT
UID:a7e205d34d4d91a536574f043f37a30e
DTSTART;TZID=UTC:20260505T133000
SEQUENCE:0
TRANSP:OPAQUE
SUMMARY:Metabolic-Epigenetic Crosstalk in the Heart: Lessons from Proton an
 d Propionate Signalling
CLASS:PUBLIC
DESCRIPTION:Dr Pawel Swietach\; Department of Physiology\, Anatomy and Gene
 tics\,\nUniversity of Oxford Alec Bangham Room\, Riverside Building
X-ALT-DESC;FMTTYPE=text/html:Dr Pawel Swietach\; Department of Physiology\,
  Anatomy and Genetics\, University of Oxford\nAlec Bangham Room\, Riversid
 e Building
DTSTAMP:20260423T112442Z
END:VEVENT
END:VCALENDAR