BEGIN:VCALENDAR
VERSION:2.0
PRODID:www.babraham.ac.uk
X-WR-TIMEZONE:UTC
BEGIN:VTIMEZONE
TZID:UTC
X-LIC-LOCATION:UTC
END:VTIMEZONE
BEGIN:VEVENT
UID:81f716200d64ee7f419e209a9f1be917
DTSTART;TZID=UTC:20260601T133000
SEQUENCE:0
TRANSP:OPAQUE
SUMMARY:Combating the ills of ageing with geoscience
CLASS:PUBLIC
DESCRIPTION:Distinguished Lecture: Prof Dame Linda Partridge\; University C
 ollege\nLondon Petersfield Lecture Theatre\, Babraham Research Campus
X-ALT-DESC;FMTTYPE=text/html:Distinguished Lecture: Prof Dame Linda Partrid
 ge\; University College London \nPetersfield Lecture Theatre\, Babraham Re
 search Campus
DTSTAMP:20260420T093040Z
END:VEVENT
END:VCALENDAR